BEGIN:VCALENDAR
VERSION:2.0
PRODID:-//Ferguson Observer - ECPv6.15.20//NONSGML v1.0//EN
CALSCALE:GREGORIAN
METHOD:PUBLISH
X-ORIGINAL-URL:https://yourferguson.org
X-WR-CALDESC:Events for Ferguson Observer
REFRESH-INTERVAL;VALUE=DURATION:PT1H
X-Robots-Tag:noindex
X-PUBLISHED-TTL:PT1H
BEGIN:VTIMEZONE
TZID:America/Chicago
BEGIN:DAYLIGHT
TZOFFSETFROM:-0600
TZOFFSETTO:-0500
TZNAME:CDT
DTSTART:20200308T080000
END:DAYLIGHT
BEGIN:STANDARD
TZOFFSETFROM:-0500
TZOFFSETTO:-0600
TZNAME:CST
DTSTART:20201101T070000
END:STANDARD
BEGIN:DAYLIGHT
TZOFFSETFROM:-0600
TZOFFSETTO:-0500
TZNAME:CDT
DTSTART:20210314T080000
END:DAYLIGHT
BEGIN:STANDARD
TZOFFSETFROM:-0500
TZOFFSETTO:-0600
TZNAME:CST
DTSTART:20211107T070000
END:STANDARD
BEGIN:DAYLIGHT
TZOFFSETFROM:-0600
TZOFFSETTO:-0500
TZNAME:CDT
DTSTART:20220313T080000
END:DAYLIGHT
BEGIN:STANDARD
TZOFFSETFROM:-0500
TZOFFSETTO:-0600
TZNAME:CST
DTSTART:20221106T070000
END:STANDARD
END:VTIMEZONE
BEGIN:VEVENT
DTSTART;TZID=America/Chicago:20211108T090000
DTEND;TZID=America/Chicago:20211113T160000
DTSTAMP:20260422T210552
CREATED:20211031T194928Z
LAST-MODIFIED:20211031T200113Z
UID:1451-1636362000-1636819200@yourferguson.org
SUMMARY:Craft Kit available: Stamped Leaf Painting (FMPL)
DESCRIPTION:The Ferguson Municipal Public Library is giving out craft kits each week. Kits are free and available on a first come\, first served basis\, while supplies last. \nThe kit for the week of November 8-13 is: Stamped Leaf Painting: Turn fallen leaves into stamps to make a beautiful fall picture!
URL:https://yourferguson.org/event/craft-kit-available-stamped-leaf-painting-fmpl/
LOCATION:Ferguson Public Library\, 35 North Florissant Ave.\, Ferguson\, MO\, 63135\, United States
CATEGORIES:All Ages,Family,Free
ORGANIZER;CN="Ferguson Public Library":MAILTO:feedback@fergusonlibrary.net
END:VEVENT
BEGIN:VEVENT
DTSTART;TZID=America/Chicago:20211110T100000
DTEND;TZID=America/Chicago:20211110T230000
DTSTAMP:20260422T210552
CREATED:20211008T215338Z
LAST-MODIFIED:20211009T015325Z
UID:1209-1636538400-1636585200@yourferguson.org
SUMMARY:Preschool Pop Up Playdates (Parks & Rec)
DESCRIPTION:Come join Ferguson Parks and Rec for Preschool Pop Up Playdate! We will have outdoor games\, balls\, hula hoops\, and more. You will even get a chance to play on our playgrounds. This \n \nis a great opportunity to meet new mommy and me friends!
URL:https://yourferguson.org/event/preschool-pop-up-playdates-2/
CATEGORIES:All Ages,Family,Free
END:VEVENT
END:VCALENDAR